BEGIN:VCALENDAR
VERSION:2.0
PRODID:-//Skogsvallen - ECPv6.9.0//NONSGML v1.0//EN
CALSCALE:GREGORIAN
METHOD:PUBLISH
X-WR-CALNAME:Skogsvallen
X-ORIGINAL-URL:https://skogsvallen.se
X-WR-CALDESC:Events for Skogsvallen
REFRESH-INTERVAL;VALUE=DURATION:PT1H
X-Robots-Tag:noindex
X-PUBLISHED-TTL:PT1H
BEGIN:VTIMEZONE
TZID:Europe/Stockholm
BEGIN:DAYLIGHT
TZOFFSETFROM:+0100
TZOFFSETTO:+0200
TZNAME:CEST
DTSTART:20260329T010000
END:DAYLIGHT
BEGIN:STANDARD
TZOFFSETFROM:+0200
TZOFFSETTO:+0100
TZNAME:CET
DTSTART:20261025T010000
END:STANDARD
END:VTIMEZONE
BEGIN:VEVENT
DTSTART;TZID=Europe/Stockholm:20260530T110000
DTEND;TZID=Europe/Stockholm:20260530T150000
DTSTAMP:20260424T134423
CREATED:20260228T175601Z
LAST-MODIFIED:20260306T204840Z
UID:10000018-1780138800-1780153200@skogsvallen.se
SUMMARY:Familjedagen
DESCRIPTION:Familjedagen på Skogsvallen är en härlig\, kostnadsfri familjefest för barn och vuxna i Östervåla\, Harbo och Tärnsjö med omnejd. Dagen bjuder på upplevelser för hela familjen med aktiviteter\, underhållning\, djurmöten\, stora fordon\, blåljusverksamheter och mycket mer – allt i en trygg och inkluderande miljö där alla är välkomna. \nAlla barn upp till 12 år bjuds på korv med bröd\, dricka och snacks\, helt gratis\, så att alla kan delta på lika villkor och njuta fullt ut av dagen. \nVi välkomnar lokala företag\, föreningar och andra aktörer att vara med och visa upp sin verksamhet\, möta nya besökare och bidra till ett uppskattat evenemang som stärker gemenskapen i bygden. Vill du delta som utställare eller samarbetspartner? Anmäl ditt intresse via länken här. \nFamiljedagen skapas genom lokalt engagemang och ideella krafter och har tidigare lockat flera hundra besökare. \nTa chansen att vara med – som deltagare eller besökare – och bidra till en glädjefylld dag för barnfamiljer. Tillsammans skapar vi minnen\, möten och en starkare gemenskap på Skogsvallen.
URL:https://skogsvallen.se/event/familjedagen/
LOCATION:Skogsvallen\, Östervåla\, Uppsala län\, 740 48\, Sweden
ATTACH;FMTTYPE=image/jpeg:https://skogsvallen.se/wp-content/uploads/familjedagen_liggande.jpg
END:VEVENT
BEGIN:VEVENT
DTSTART;TZID=Europe/Stockholm:20260627T200000
DTEND;TZID=Europe/Stockholm:20260628T013000
DTSTAMP:20260424T134423
CREATED:20260228T094713Z
LAST-MODIFIED:20260228T095246Z
UID:10000017-1782590400-1782610200@skogsvallen.se
SUMMARY:2 Blyga Läppar + Runa + 100% Uggla
DESCRIPTION:Helgen efter midsommar blir det ett riktigt partykväll på Skogsvallen med 2 BLYGA LÄPPAR på stora scenen\, stöd från RUNA och efterfest med 100% UGGLA. \n2 BLYGA LÄPPAR startades för ett syfte\, att roa människor! När bandet intar scenen förvandlas kvällen till en fest utan dess like. Med sina medryckande hits och charmiga uppträdande får de hela publiken att sjunga med och dansa under stjärnorna. Deras unika mix av humor och hjärta skapar en oförglömlig konsertupplevelse. \nSom stöd har vi RUNA! Med musikaliska rötter ifrån blues\, country och dansband berör det värmländska bandet det mesta från forntida utsagor\, kärleken till norden och berättelser om brustna hjärtan. Allt blandat i en svängig rockgryta med mycket allsång och dans. \nDå konserten tar sitt slut på stora scenen blir det efterfest med 100% UGGLA på dansbanan\, en hyllning och look-alike-show med en spektakulär produktion. Christoffer Lundin tar Magnus Ugglas odödliga låtskatt och levererar den med samma attityd\, ironi och kaxighet som originalet. \nKom\, det blir kul!
URL:https://skogsvallen.se/event/2-blyga-lappar-runa-100-uggla/
LOCATION:Skogsvallen\, Östervåla\, Uppsala län\, 740 48\, Sweden
ATTACH;FMTTYPE=image/jpeg:https://skogsvallen.se/wp-content/uploads/27juni.jpg
END:VEVENT
BEGIN:VEVENT
DTSTART;TZID=Europe/Stockholm:20260731T190000
DTEND;TZID=Europe/Stockholm:20260801T013000
DTSTAMP:20260424T134423
CREATED:20260320T164155Z
LAST-MODIFIED:20260322T075422Z
UID:10000020-1785524400-1785547800@skogsvallen.se
SUMMARY:Northlake Countryfest
DESCRIPTION:Nu är det dags för en riktig Countryfest tillsammans med Northlake Shivers\, Stella Adee och Echoes & Rhymes. \nNorthlake Countryfest är en idé som föddes i dom djupaste skogarna av Bergslagen. Närmare bestämt Kopparberg. Bandet Northlake Shivers bestämde tillsammans med bröderna i JME Music att arrangera en egen minifestival och bjuda in några gästartister. Vilket resulterade i utsålda spelningar både 2024 och 2025! \nNu kommer detta koncept på turné – bland annat till Östervåla! Fredag 31 juli blir det en kväll fylld med countrymusik\, dans och god mat. \nSåklart står Northlake Shivers på scen som huvudakt. Linus Andersson och Ronnie Aronsson\, barndomsvänner från Kopparberg\, hade ingen aning om vad som väntade dem när de började lägga upp countrymusik-covers på sociala medier. Bara fyra månader och 1\,6 miljoner visningar senare fann sig duon samarbeta med ett artistteam\, spela in låtar från amerikanska låtskrivare och boka spelningar. Bandet har utvecklat ett unikt countrysound som speglar deras avslappnade uppväxt. \nMed Northlake på denna turné kommer Stella Adee\, en countryartist från Dalarna med en passion för modern countrymusik. Stella började skriva egna låtar 2020\, bland annat Face the Music. Med en själfull sångröst och moderna countryinfluenser skapar hon musik full av känsla och energi. \nSedan har vi också Echoes & Rhymes\, ett akustiskt Americana-band med rötter i bluegrass och kärlek till modern folk och country. Med fiol\, mandolin\, gitarr och ståbas skapar de själfulla låtar och varma vokalharmonier. \nAllt det här på en sommarkväll på Upplands bästa folkpark – kom\, det blir kul!
URL:https://skogsvallen.se/event/northlake-countryfest/
LOCATION:Skogsvallen\, Östervåla\, Uppsala län\, 740 48\, Sweden
ATTACH;FMTTYPE=image/jpeg:https://skogsvallen.se/wp-content/uploads/Countryfest.jpg
END:VEVENT
BEGIN:VEVENT
DTSTART;TZID=Europe/Stockholm:20260829T200000
DTEND;TZID=Europe/Stockholm:20260830T013000
DTSTAMP:20260424T134423
CREATED:20260306T203438Z
LAST-MODIFIED:20260306T203904Z
UID:10000019-1788033600-1788053400@skogsvallen.se
SUMMARY:Ett band. En kväll. En hemlighet.
DESCRIPTION:Den 29 augusti tänder vi gnistan till sommarens mest explosiva upplevelse på Skogsvallen. \nVi bjuder in till en kväll där pulsen höjs\, ljuset bryter genom mörkret och scenen förvandlas till ett spektakel sprängfyllt av energi. Effekterna? Mäktigare än någonsin. Stämningen? Förstärkt av sensommarens magiska dunkel. \nVilka som står bakom denna maxade show avslöjar vi inte riktigt än – men tro oss\, ni vill vara där när allt briserar. \nBiljetterna släpps nu till Blind Bird-pris! \nFörst till kvarn – passa på innan de försvinner! \nKom\, det blir kul!
URL:https://skogsvallen.se/event/ett-band-en-kvall-en-hemlighet/
LOCATION:Skogsvallen\, Östervåla\, Uppsala län\, 740 48\, Sweden
ATTACH;FMTTYPE=image/jpeg:https://skogsvallen.se/wp-content/uploads/29aug_liggande-1.jpg
END:VEVENT
END:VCALENDAR